BEGIN:VCALENDAR
VERSION:2.0
PRODID:-//supporttm.projects.uvt.ro - ECPv5.5.0.1//NONSGML v1.0//EN
CALSCALE:GREGORIAN
METHOD:PUBLISH
X-WR-CALNAME:supporttm.projects.uvt.ro
X-ORIGINAL-URL:http://supporttm.projects.uvt.ro
X-WR-CALDESC:Events for supporttm.projects.uvt.ro
BEGIN:VTIMEZONE
TZID:Europe/Paris
BEGIN:DAYLIGHT
TZOFFSETFROM:+0100
TZOFFSETTO:+0200
TZNAME:CEST
DTSTART:20210328T010000
END:DAYLIGHT
BEGIN:STANDARD
TZOFFSETFROM:+0200
TZOFFSETTO:+0100
TZNAME:CET
DTSTART:20211031T010000
END:STANDARD
END:VTIMEZONE
BEGIN:VEVENT
DTSTART;VALUE=DATE:20210630
DTEND;VALUE=DATE:20210702
DTSTAMP:20260419T142942
CREATED:20210611T085101Z
LAST-MODIFIED:20210611T085146Z
UID:3053-1625011200-1625183999@supporttm.projects.uvt.ro
SUMMARY:1st Horizon Europe Cluster 3 Information Day and Brokerage Event
DESCRIPTION:Primele apeluri Orizont Europa „Securitate civilă pentru societate” oferă noi oportunități de finanțare a cercetării instituțiilor de cercetare\, universităților\, industriilor\, IMM-urilor\, organizațiilor societății civile și altor părți interesate din domeniul securității. \nEvenimentul este organizat de Rețeaua punctelor de contact naționale – SEREN4\, în strânsă cooperare cu Comisia Europeană și Agenția Executivă pentru Cercetare; va fi prima zi oficială de informare privind Orizont Europa- Cluster 3 – „Securitate civilă pentru societate”\, iar participanții vor avea șansa de a afla detalii despre primele apeluri de securitate civilă pentru societate\, care se vor deschide în iunie 2021. \nParticiparea la eveniment este gratuită\, necesitând înscrierea până pe data de 30 iunie accesând link-ul: https://seren4-heu-cluster3-infoday.b2match.io.
URL:http://supporttm.projects.uvt.ro/event/1st-horizon-europe-cluster-3-information-day-and-brokerage-event/
CATEGORIES:Noutati
END:VEVENT
END:VCALENDAR