BEGIN:VCALENDAR
VERSION:2.0
PRODID:-//supporttm.projects.uvt.ro - ECPv5.5.0.1//NONSGML v1.0//EN
CALSCALE:GREGORIAN
METHOD:PUBLISH
X-WR-CALNAME:supporttm.projects.uvt.ro
X-ORIGINAL-URL:http://supporttm.projects.uvt.ro
X-WR-CALDESC:Events for supporttm.projects.uvt.ro
BEGIN:VTIMEZONE
TZID:UTC
BEGIN:STANDARD
TZOFFSETFROM:+0000
TZOFFSETTO:+0000
TZNAME:UTC
DTSTART:20210101T000000
END:STANDARD
END:VTIMEZONE
BEGIN:VEVENT
DTSTART;TZID=UTC:20210322T020000
DTEND;TZID=UTC:20210323T033000
DTSTAMP:20260419T160306
CREATED:20210127T153821Z
LAST-MODIFIED:20210128T105047Z
UID:2454-1616378400-1616470200@supporttm.projects.uvt.ro
SUMMARY:Academy part III. Horizon Europe financial rules
DESCRIPTION:Webinarul este dedicat analizei regulilor financiare specifice Programului Orizont 2020 și Orizont Europa\, facilitând însușirea acestora prin intermediul exemplelor practice și a exercițiilor propuse pe durata celor două zile de desfășurare. Evenimentul va fi precedat de un modul dedicat regulilor financiare de bază ale acestui tip de apeluri. În prima zi atenția se va îndrepta asupra regulilor financiare ale Programului Orizont 2020 și Orizont Europa în ceea ce privește costurile de personal\, a subcontractărilor\, părților terțe sau altor costuri directe\, oferind posibilitatea de a consulta documentația financiară integrală a unui proiect virtual printr-un exercițiu de raportare a acestuia\, în vreme ce a doua zi va fi dedicată oferirii de soluții la exercițiul propus anterior. \nAgenda integrală a proiectului se regăsește aici. \nOrganizator: Europe Media Training \nMai multe detalii despre eveniment se regăsesc aici. \nÎnregistrarea în vederea participării se face aici (până la data de 19 martie). \nTaxă de participare: 499 euro
URL:http://supporttm.projects.uvt.ro/event/academy-part-iii-horizon-europe-financial-rules/
CATEGORIES:FINANCE SERIES,Noutati
ATTACH;FMTTYPE=image/jpeg:http://supporttm.projects.uvt.ro/wp-content/uploads/2021/01/1-Academy-part-III.-Horizon-Europe-financial-rules-scaled.jpg
END:VEVENT
END:VCALENDAR