BEGIN:VCALENDAR
VERSION:2.0
PRODID:-//supporttm.projects.uvt.ro - ECPv5.5.0.1//NONSGML v1.0//EN
CALSCALE:GREGORIAN
METHOD:PUBLISH
X-WR-CALNAME:supporttm.projects.uvt.ro
X-ORIGINAL-URL:http://supporttm.projects.uvt.ro
X-WR-CALDESC:Events for supporttm.projects.uvt.ro
BEGIN:VTIMEZONE
TZID:UTC
BEGIN:STANDARD
TZOFFSETFROM:+0000
TZOFFSETTO:+0000
TZNAME:UTC
DTSTART:20210101T000000
END:STANDARD
END:VTIMEZONE
BEGIN:VEVENT
DTSTART;VALUE=DATE:20210414
DTEND;VALUE=DATE:20210417
DTSTAMP:20260422T163349
CREATED:20210414T111756Z
LAST-MODIFIED:20210414T112010Z
UID:2840-1618358400-1618617599@supporttm.projects.uvt.ro
SUMMARY:B2B Health Innovation Market 2021
DESCRIPTION:Agenția Națională portugheză pentru Inovare (ANI) și Camera de Comerț și Industrie a Regiunii Centro (CEC/CCIC\, Portugalia)\, cu sprijinul Rețelei Enterprise Europe (EEN)\, în colaborare cu Health Cluster Portugal (HCP) vor organiza un eveniment virtual de matchmaking. Vor fi abordate subiecte precum: medicamente inovatoare\, sănătate inteligentă\, medicamente esențiale\, dispozitive medicale\, studii clinice și valorificarea cunoștințelor. Participanții vor avea ocazia să se întâlnească în cadrul discuțiilor prestabilite cu durata de 20 de minute pentru identificarea potențialilor parteneri pentru proiectele de cercetare și dezvoltare și pentru transferul de tehnologie\, explorarea oportunităților de extindere a afacerilor și de comercializare a noilor produse și schimbul de bune practici și cunoștințe privind serviciile\, politicile și instrumentele inovatoare de asistență medicală și de finanțare. \nEvenimentul va reuni aproximativ 100 de participanți din companii medicale și de sănătate de înaltă specializare din întreaga Europă. Participarea la toate cele 3 zile este gratuită\, iar înscrierile la evenimente sunt obligatorii. Înregistrarea se poate realiza până pe data de 13 aprilie accesând link-ul: B2B Health Innovation Market 2021 – Welcome (b2match.io).
URL:http://supporttm.projects.uvt.ro/event/b2b-health-innovation-market-2021/
CATEGORIES:Noutati
END:VEVENT
END:VCALENDAR