BEGIN:VCALENDAR
VERSION:2.0
PRODID:-//supporttm.projects.uvt.ro - ECPv5.5.0.1//NONSGML v1.0//EN
CALSCALE:GREGORIAN
METHOD:PUBLISH
X-WR-CALNAME:supporttm.projects.uvt.ro
X-ORIGINAL-URL:http://supporttm.projects.uvt.ro
X-WR-CALDESC:Events for supporttm.projects.uvt.ro
BEGIN:VTIMEZONE
TZID:Europe/Paris
BEGIN:DAYLIGHT
TZOFFSETFROM:+0100
TZOFFSETTO:+0200
TZNAME:CEST
DTSTART:20210328T010000
END:DAYLIGHT
BEGIN:STANDARD
TZOFFSETFROM:+0200
TZOFFSETTO:+0100
TZNAME:CET
DTSTART:20211031T010000
END:STANDARD
END:VTIMEZONE
BEGIN:VEVENT
DTSTART;TZID=Europe/Paris:20210629T094500
DTEND;TZID=Europe/Paris:20210629T094500
DTSTAMP:20260419T160306
CREATED:20210608T054823Z
LAST-MODIFIED:20210608T054942Z
UID:3034-1624959900-1624959900@supporttm.projects.uvt.ro
SUMMARY:Brokerage event on Horizon Europe Cluster 3 security related topics
DESCRIPTION:Evenimentul ”Brokerage event on Horizon Europe Cluster 3 security related topics” va avea loc virtual\, în data de 29 iunie 2021\, între orele 9:45 – 13:00. Se poate participa ca prezentator de idei de proiect\, 2 minute/proiect (termen înscriere: 22 iunie 2021 pe principiul ”primul venit\, primul servit”) sau ca participant observator (termen de înscriere 25 iunie 2021). \nVor fi abordate apelurile: \n\nHORIZON-CL3-2021-FCT-01-06: Domestic and sexual violence are prevented and combated (IA)\nHORIZON-CL3-2021-BM-01-03: Improved border checks for travel facilitation across external borders and improved experiences for both passengers and border authorities’ staff (IA)\nHORIZON-CL3-2021-BM-01-04: Advanced detection of threats and illicit goods in postal and express courier flows (RIA)\nHORIZON-CL3-2021-CS-01-01: Dynamic business continuity and recovery methodologies based on models and prediction for multi-level Cybersecurity (RIA)\nHORIZON-CL3-2021-CS-01-04: Scalable privacy-preserving technologies for cross-border federated computation in Europe involving personal data (RIA)\n\nDetalii și înscriere aici: http://lino.lmt.lt/en/renginiai/brokerage-on-horizon-europe-cluster-3-security
URL:http://supporttm.projects.uvt.ro/event/brokerage-event-on-horizon-europe-cluster-3-security-related-topics/
CATEGORIES:Noutati
END:VEVENT
END:VCALENDAR