BEGIN:VCALENDAR
VERSION:2.0
PRODID:-//supporttm.projects.uvt.ro - ECPv5.5.0.1//NONSGML v1.0//EN
CALSCALE:GREGORIAN
METHOD:PUBLISH
X-WR-CALNAME:supporttm.projects.uvt.ro
X-ORIGINAL-URL:http://supporttm.projects.uvt.ro
X-WR-CALDESC:Events for supporttm.projects.uvt.ro
BEGIN:VTIMEZONE
TZID:Europe/Paris
BEGIN:DAYLIGHT
TZOFFSETFROM:+0100
TZOFFSETTO:+0200
TZNAME:CEST
DTSTART:20220327T010000
END:DAYLIGHT
BEGIN:STANDARD
TZOFFSETFROM:+0200
TZOFFSETTO:+0100
TZNAME:CET
DTSTART:20221030T010000
END:STANDARD
END:VTIMEZONE
BEGIN:VEVENT
DTSTART;VALUE=DATE:20220503
DTEND;VALUE=DATE:20220504
DTSTAMP:20260419T130940
CREATED:20220429T131319Z
LAST-MODIFIED:20220429T131825Z
UID:3408-1651536000-1651622399@supporttm.projects.uvt.ro
SUMMARY:Community on New European Bauhaus Info-day
DESCRIPTION:În data de 3 mai 2022\, Institutul European de Inovare și Tehnologie (EIT) organizează sesiunea de informare Community on New European Bauhaus Info-day\, în cadrul căreia participanții vor afla noile povești de succes ale Bauhaus-ului European derulat în anul 2021 și oportunitățile viitoare de finanțare\, pentru anul 2022. \nDetalii despre înscriere aici.
URL:http://supporttm.projects.uvt.ro/event/community-on-new-european-bauhaus-info-day/
CATEGORIES:Noutati
ATTACH;FMTTYPE=image/png:http://supporttm.projects.uvt.ro/wp-content/uploads/2022/04/c3.png
END:VEVENT
END:VCALENDAR