BEGIN:VCALENDAR
VERSION:2.0
PRODID:-//supporttm.projects.uvt.ro - ECPv5.5.0.1//NONSGML v1.0//EN
CALSCALE:GREGORIAN
METHOD:PUBLISH
X-WR-CALNAME:supporttm.projects.uvt.ro
X-ORIGINAL-URL:http://supporttm.projects.uvt.ro
X-WR-CALDESC:Events for supporttm.projects.uvt.ro
BEGIN:VTIMEZONE
TZID:Europe/Paris
BEGIN:DAYLIGHT
TZOFFSETFROM:+0100
TZOFFSETTO:+0200
TZNAME:CEST
DTSTART:20210328T010000
END:DAYLIGHT
BEGIN:STANDARD
TZOFFSETFROM:+0200
TZOFFSETTO:+0100
TZNAME:CET
DTSTART:20211031T010000
END:STANDARD
END:VTIMEZONE
BEGIN:VEVENT
DTSTART;TZID=Europe/Paris:20210316T150000
DTEND;TZID=Europe/Paris:20210316T160000
DTSTAMP:20260422T150202
CREATED:20210302T123354Z
LAST-MODIFIED:20210302T123354Z
UID:2565-1615906800-1615910400@supporttm.projects.uvt.ro
SUMMARY:Create your Horizon Europe project budget in 6 steps
DESCRIPTION:Acest webinar cu participare gratuită organizat de EMDESK în parteneriat cu Way2Connect se adresează celor interesați de aspectele financiare ale proiectelor prin noul programul-cadru\, Orizont Europa. Vor fi abordate subiecte precum eligibilitatea costurilor\, categorii bugetare\, informații pentru coordonator și aspecte ulterioare obținerii finanțării. Partea practică va implica parcurgerea a 6 pași pentru crearea unui buget care va prevala în timpul implementării proiectului. \nEvenimentul va avea loc marți\, 16.03.2021\, în intervalul orar 1500-1600 (CET)\, iar înscrierile se pot face aici.
URL:http://supporttm.projects.uvt.ro/event/create-your-horizon-europe-project-budget-in-6-steps/
CATEGORIES:Noutati
END:VEVENT
END:VCALENDAR