BEGIN:VCALENDAR
VERSION:2.0
PRODID:-//supporttm.projects.uvt.ro - ECPv5.5.0.1//NONSGML v1.0//EN
CALSCALE:GREGORIAN
METHOD:PUBLISH
X-WR-CALNAME:supporttm.projects.uvt.ro
X-ORIGINAL-URL:http://supporttm.projects.uvt.ro
X-WR-CALDESC:Events for supporttm.projects.uvt.ro
BEGIN:VTIMEZONE
TZID:Europe/Paris
BEGIN:DAYLIGHT
TZOFFSETFROM:+0100
TZOFFSETTO:+0200
TZNAME:CEST
DTSTART:20220327T010000
END:DAYLIGHT
BEGIN:STANDARD
TZOFFSETFROM:+0200
TZOFFSETTO:+0100
TZNAME:CET
DTSTART:20221030T010000
END:STANDARD
END:VTIMEZONE
BEGIN:VEVENT
DTSTART;VALUE=DATE:20220616
DTEND;VALUE=DATE:20220617
DTSTAMP:20260419T131017
CREATED:20220602T080342Z
LAST-MODIFIED:20220602T080624Z
UID:3520-1655337600-1655423999@supporttm.projects.uvt.ro
SUMMARY:FOSTERING DEMOCRACY IN THE EU - THE ROLE OF EDUCATION
DESCRIPTION:FOSTERING DEMOCRACY IN THE EU – THE ROLE OF EDUCATION este o conferință virtuală\, organiată de EURACTIV care va avea loc în data de 16 iunie 2022 și va expune modul în care factorii de decizie pot susține inițiative noi și inovatoare de educație pentru cetățeni în întreaga Europă. Mai multe detalii despre eveniment\, aici.
URL:http://supporttm.projects.uvt.ro/event/fostering-democracy-in-the-eu-the-role-of-education/
CATEGORIES:Noutati
ATTACH;FMTTYPE=image/jpeg:http://supporttm.projects.uvt.ro/wp-content/uploads/2022/06/fostering.jpg
END:VEVENT
END:VCALENDAR