BEGIN:VCALENDAR
VERSION:2.0
PRODID:-//supporttm.projects.uvt.ro - ECPv5.5.0.1//NONSGML v1.0//EN
CALSCALE:GREGORIAN
METHOD:PUBLISH
X-WR-CALNAME:supporttm.projects.uvt.ro
X-ORIGINAL-URL:http://supporttm.projects.uvt.ro
X-WR-CALDESC:Events for supporttm.projects.uvt.ro
BEGIN:VTIMEZONE
TZID:UTC
BEGIN:STANDARD
TZOFFSETFROM:+0000
TZOFFSETTO:+0000
TZNAME:UTC
DTSTART:20210101T000000
END:STANDARD
END:VTIMEZONE
BEGIN:VEVENT
DTSTART;VALUE=DATE:20210223
DTEND;VALUE=DATE:20210224
DTSTAMP:20260422T163243
CREATED:20210127T154212Z
LAST-MODIFIED:20210128T105256Z
UID:2457-1614038400-1614124799@supporttm.projects.uvt.ro
SUMMARY:Horizon Europe proposal writing: focus impact
DESCRIPTION:Webinarul este dedicat analizei secțiunilor 2.1 și 2.2\, oferind atât o abordare teoretică\, precum și sfaturi în ceea ce privește pregătirea unei cereri de finanțare competitive în cadrul primului apel de proiecte Orizont Europa\, în special prin sublinierea caracterului înnoitor al proiectului propus. Evenimentul va include exerciții care le vor permite participanților să își exerseze abilitățile de pregătire a  cererii de finanțare. \nOrganizator: Europe Media Training \nMai multe detalii despre eveniment\, precum și agenda integrală a acestuia se regăsesc aici. \nÎnregistrarea în vederea participării se face aici (până la data de 22 februarie). \nTaxă de participare: 249 euro
URL:http://supporttm.projects.uvt.ro/event/horizon-europe-proposal-writing-focus-impact/
CATEGORIES:Noutati,PROPOSAL WRITING SERIES
ATTACH;FMTTYPE=image/jpeg:http://supporttm.projects.uvt.ro/wp-content/uploads/2021/01/2-Horizon-Europe-proposal-writing-focus-impact-scaled.jpg
END:VEVENT
END:VCALENDAR