BEGIN:VCALENDAR
VERSION:2.0
PRODID:-//supporttm.projects.uvt.ro - ECPv5.5.0.1//NONSGML v1.0//EN
CALSCALE:GREGORIAN
METHOD:PUBLISH
X-WR-CALNAME:supporttm.projects.uvt.ro
X-ORIGINAL-URL:http://supporttm.projects.uvt.ro
X-WR-CALDESC:Events for supporttm.projects.uvt.ro
BEGIN:VTIMEZONE
TZID:UTC
BEGIN:STANDARD
TZOFFSETFROM:+0000
TZOFFSETTO:+0000
TZNAME:UTC
DTSTART:20210101T000000
END:STANDARD
END:VTIMEZONE
BEGIN:VEVENT
DTSTART;VALUE=DATE:20210311
DTEND;VALUE=DATE:20210312
DTSTAMP:20260419T174327
CREATED:20210226T170236Z
LAST-MODIFIED:20210226T170236Z
UID:2552-1615420800-1615507199@supporttm.projects.uvt.ro
SUMMARY:Introducing Gender Issues and the Gender Equality Plan in Horizon Europe
DESCRIPTION:Acest webinar va oferi informații cu privire la aspectele legate de egalitatea de gen\, concentrându-se pe elemente noi în Orizont Europa\, cum ar fi cerința ca entitățile publice să aibă un plan de egalitate de gen sau integrarea dimensiunii de gen în cadrul programului. Un membru al rețelei NCP germane pentru probleme de gen va vorbi despre serviciile rețelei. Seminarul online este deschis tuturor viitorilor membri ai punctelor naționale de contact pentru Oorizon Europa cu orice nivel de experiență. Mai multe informații și detalii despre înscriere sunt disponibile accesând acest link .
URL:http://supporttm.projects.uvt.ro/event/introducing-gender-issues-and-the-gender-equality-plan-in-horizon-europe/
CATEGORIES:Noutati
END:VEVENT
END:VCALENDAR