BEGIN:VCALENDAR
VERSION:2.0
PRODID:-//supporttm.projects.uvt.ro - ECPv5.5.0.1//NONSGML v1.0//EN
CALSCALE:GREGORIAN
METHOD:PUBLISH
X-WR-CALNAME:supporttm.projects.uvt.ro
X-ORIGINAL-URL:http://supporttm.projects.uvt.ro
X-WR-CALDESC:Events for supporttm.projects.uvt.ro
BEGIN:VTIMEZONE
TZID:Europe/Paris
BEGIN:DAYLIGHT
TZOFFSETFROM:+0100
TZOFFSETTO:+0200
TZNAME:CEST
DTSTART:20220327T010000
END:DAYLIGHT
BEGIN:STANDARD
TZOFFSETFROM:+0200
TZOFFSETTO:+0100
TZNAME:CET
DTSTART:20221030T010000
END:STANDARD
END:VTIMEZONE
BEGIN:VEVENT
DTSTART;VALUE=DATE:20220511
DTEND;VALUE=DATE:20220514
DTSTAMP:20260424T111953
CREATED:20220429T134226Z
LAST-MODIFIED:20220429T134449Z
UID:3432-1652227200-1652486399@supporttm.projects.uvt.ro
SUMMARY:Introducing the Global Health EDCTP3 Joint Undertaking
DESCRIPTION:În data de 10 mai 2022\, EDCTP3 Global Health (GH EDCTP3 JU) va găzdui evenimentul Introducing the Global Health EDCTP3 Joint Undertaking. În cadrul acestuia\, va fi subliniată importanța întreprinderii comune GH EDCTP3 pentru asigurarea colaborării\, cooperării și finanțării cercetării și inovării în domeniul bolilor infecțioase și angajamentul partenerilor în acest demers. Evenimentul se va desfășura în regim hibrid (atât fizic\, cât și virtual).\nEvenimentul va fi găzduit de ANRS | Boli Infecțioase Emergente\, la Paris. \nMai multe detalii sunt disponibile aici.
URL:http://supporttm.projects.uvt.ro/event/introducing-the-global-health-edctp3-joint-undertaking/
CATEGORIES:Noutati
ATTACH;FMTTYPE=image/png:http://supporttm.projects.uvt.ro/wp-content/uploads/2022/04/c7.png
END:VEVENT
END:VCALENDAR