BEGIN:VCALENDAR
VERSION:2.0
PRODID:-//supporttm.projects.uvt.ro - ECPv5.5.0.1//NONSGML v1.0//EN
CALSCALE:GREGORIAN
METHOD:PUBLISH
X-WR-CALNAME:supporttm.projects.uvt.ro
X-ORIGINAL-URL:http://supporttm.projects.uvt.ro
X-WR-CALDESC:Events for supporttm.projects.uvt.ro
BEGIN:VTIMEZONE
TZID:Europe/Paris
BEGIN:DAYLIGHT
TZOFFSETFROM:+0100
TZOFFSETTO:+0200
TZNAME:CEST
DTSTART:20210328T010000
END:DAYLIGHT
BEGIN:STANDARD
TZOFFSETFROM:+0200
TZOFFSETTO:+0100
TZNAME:CET
DTSTART:20211031T010000
END:STANDARD
END:VTIMEZONE
BEGIN:VEVENT
DTSTART;TZID=Europe/Paris:20210412T110000
DTEND;TZID=Europe/Paris:20210412T123000
DTSTAMP:20260419T131018
CREATED:20210412T111654Z
LAST-MODIFIED:20210414T114348Z
UID:2774-1618225200-1618230600@supporttm.projects.uvt.ro
SUMMARY:Launch Event for the Security & Civil Society Cluster under Horizon Europe
DESCRIPTION:Acest eveniment este gratuit și este organizat de Argentum Consultants\, înscrierea fiind posibilă aici. \n\n\n\nAgenda evenimentului cuprinde: \n• Prezentarea Argentum Consultants \n• Introducerea „Centrului de cercetare și dezvoltare ELTA” în domeniul securității cibernetice \n• Clusterul Societății Civile și Securitate din Orizont Europa \n• Apeluri relevante \n• Planificarea pașilor spre trimiterea propunerilor
URL:http://supporttm.projects.uvt.ro/event/launch-event-for-the-security-civil-society-cluster-under-horizon-europe/
CATEGORIES:Noutati
END:VEVENT
END:VCALENDAR