BEGIN:VCALENDAR
VERSION:2.0
PRODID:-//supporttm.projects.uvt.ro - ECPv5.5.0.1//NONSGML v1.0//EN
CALSCALE:GREGORIAN
METHOD:PUBLISH
X-WR-CALNAME:supporttm.projects.uvt.ro
X-ORIGINAL-URL:http://supporttm.projects.uvt.ro
X-WR-CALDESC:Events for supporttm.projects.uvt.ro
BEGIN:VTIMEZONE
TZID:Europe/Paris
BEGIN:DAYLIGHT
TZOFFSETFROM:+0100
TZOFFSETTO:+0200
TZNAME:CEST
DTSTART:20210328T010000
END:DAYLIGHT
BEGIN:STANDARD
TZOFFSETFROM:+0200
TZOFFSETTO:+0100
TZNAME:CET
DTSTART:20211031T010000
END:STANDARD
END:VTIMEZONE
BEGIN:VEVENT
DTSTART;VALUE=DATE:20211206
DTEND;VALUE=DATE:20211211
DTSTAMP:20260419T144208
CREATED:20211125T052230Z
LAST-MODIFIED:20211130T052401Z
UID:3230-1638748800-1639180799@supporttm.projects.uvt.ro
SUMMARY:Orizont Europa: punerea bazelor pentru un impact mai mare
DESCRIPTION:Orizont Europa: punerea bazelor pentru un impact mai mare \nEurope Media Trainings pune la dispoziția celor interesați acest webinar de 40 de minute. Vizualizarea\nacestuia este gratuită\, fiind nevoie doar de cont de utilizator\, care se poate obține în câteva secunde\, aici.\nAstfel\, în perioada 06 decembrie 2021\, ora 09:00 CEST și 10 decembrie 2021\, ora 16:00 CEST\, se pot obține\ninformații despre programul Orizont Europa\, despre apelurile disponibile și modul în care trebuie pregătită\no propunere pentru a se potrivi așteptărilor Comisiei. \nMai multe detalii\, aici: https://europamediatrainings.com/publications/video/103/horizon-europe-layingthe-foundations-for-greater-impact. Alte evenimente organizate de Europe media Trainings sunt disponibile\naici: https://europamediatrainings.com/training-services.
URL:http://supporttm.projects.uvt.ro/event/orizont-europa-punerea-bazelor-pentru-un-impact-mai-mare/
CATEGORIES:Noutati
END:VEVENT
END:VCALENDAR