BEGIN:VCALENDAR
VERSION:2.0
PRODID:-//supporttm.projects.uvt.ro - ECPv5.5.0.1//NONSGML v1.0//EN
CALSCALE:GREGORIAN
METHOD:PUBLISH
X-WR-CALNAME:supporttm.projects.uvt.ro
X-ORIGINAL-URL:http://supporttm.projects.uvt.ro
X-WR-CALDESC:Events for supporttm.projects.uvt.ro
BEGIN:VTIMEZONE
TZID:Europe/Paris
BEGIN:DAYLIGHT
TZOFFSETFROM:+0100
TZOFFSETTO:+0200
TZNAME:CEST
DTSTART:20220327T010000
END:DAYLIGHT
BEGIN:STANDARD
TZOFFSETFROM:+0200
TZOFFSETTO:+0100
TZNAME:CET
DTSTART:20221030T010000
END:STANDARD
END:VTIMEZONE
BEGIN:VEVENT
DTSTART;VALUE=DATE:20220614
DTEND;VALUE=DATE:20220615
DTSTAMP:20260419T130941
CREATED:20220602T072730Z
LAST-MODIFIED:20220602T073037Z
UID:3495-1655164800-1655251199@supporttm.projects.uvt.ro
SUMMARY:Patent protection for EU funding beneficiaries - Green technologies
DESCRIPTION:Oferit de Oficiul European de Brevete (OEB) și Biroul european de asistență în domeniul IP organizează\, webinarul Patent protection for EU funding beneficiaries – Green technologies\, va avea loc în data de 14 iunie 2022. În cadrul evenimentului\, vor fi prezentate principalele aspecte ale managementului de proprietate intelectuală (IP). Mai multe detalii\, aici.
URL:http://supporttm.projects.uvt.ro/event/patent-protection-for-eu-funding-beneficiaries-green-technologies/
CATEGORIES:Noutati
ATTACH;FMTTYPE=image/jpeg:http://supporttm.projects.uvt.ro/wp-content/uploads/2022/06/patent.jpg
END:VEVENT
END:VCALENDAR