BEGIN:VCALENDAR
VERSION:2.0
PRODID:-//supporttm.projects.uvt.ro - ECPv5.5.0.1//NONSGML v1.0//EN
CALSCALE:GREGORIAN
METHOD:PUBLISH
X-WR-CALNAME:supporttm.projects.uvt.ro
X-ORIGINAL-URL:http://supporttm.projects.uvt.ro
X-WR-CALDESC:Events for supporttm.projects.uvt.ro
BEGIN:VTIMEZONE
TZID:Europe/Paris
BEGIN:DAYLIGHT
TZOFFSETFROM:+0100
TZOFFSETTO:+0200
TZNAME:CEST
DTSTART:20220327T010000
END:DAYLIGHT
BEGIN:STANDARD
TZOFFSETFROM:+0200
TZOFFSETTO:+0100
TZNAME:CET
DTSTART:20221030T010000
END:STANDARD
END:VTIMEZONE
BEGIN:VEVENT
DTSTART;VALUE=DATE:20220615
DTEND;VALUE=DATE:20220616
DTSTAMP:20260419T131018
CREATED:20220602T074633Z
LAST-MODIFIED:20220602T075202Z
UID:3514-1655251200-1655337599@supporttm.projects.uvt.ro
SUMMARY:SOCIAL SCIENCES & HUMANITIES OPPORTUNITIES IN HORIZON EUROPE BROKERAGE EVENT
DESCRIPTION:SOCIAL SCIENCES & HUMANITIES OPPORTUNITIES IN HORIZON EUROPE BROKERAGE EVENT\, este un eveniment organizat de către Rețeaua Enterprise Europe Network (EEN) în parteneriat cu Cluster 6 National Contact Points (NCP) în data de 15 iunie 2022\, ora 11:30 (CEST). Acesta va prezenta domeniile și oportunitățile de finanțare din cadrul Clusterului 6 Orizont Europa\, precum și oportunități de parteneriat cu experții în Științe Sociale și Umaniste. Vor fi prezentate și așteptările Comisiei Europene privind includerea SSH (Social Sciences & Humanities) în propunerile de proiecte. Mai multe detalii\, aici.
URL:http://supporttm.projects.uvt.ro/event/social-sciences-humanities-opportunities-in-horizon-europe-brokerage-event/
CATEGORIES:Noutati
ATTACH;FMTTYPE=image/jpeg:http://supporttm.projects.uvt.ro/wp-content/uploads/2022/06/brokerage.jpg
END:VEVENT
END:VCALENDAR