BEGIN:VCALENDAR
VERSION:2.0
PRODID:-//supporttm.projects.uvt.ro - ECPv5.5.0.1//NONSGML v1.0//EN
CALSCALE:GREGORIAN
METHOD:PUBLISH
X-WR-CALNAME:supporttm.projects.uvt.ro
X-ORIGINAL-URL:http://supporttm.projects.uvt.ro
X-WR-CALDESC:Events for supporttm.projects.uvt.ro
BEGIN:VTIMEZONE
TZID:Europe/Paris
BEGIN:DAYLIGHT
TZOFFSETFROM:+0100
TZOFFSETTO:+0200
TZNAME:CEST
DTSTART:20210328T010000
END:DAYLIGHT
BEGIN:STANDARD
TZOFFSETFROM:+0200
TZOFFSETTO:+0100
TZNAME:CET
DTSTART:20211031T010000
END:STANDARD
END:VTIMEZONE
BEGIN:VEVENT
DTSTART;TZID=Europe/Paris:20210527T110000
DTEND;TZID=Europe/Paris:20210527T120000
DTSTAMP:20260419T131017
CREATED:20210513T135757Z
LAST-MODIFIED:20210513T140040Z
UID:2999-1622113200-1622116800@supporttm.projects.uvt.ro
SUMMARY:The Funding & Tenders Portal for beginners
DESCRIPTION:În data de 27 mai 2021 începând cu ora 11 va avea loc o sesiune de informare online (LiveStream pe YouTube) cu privire la portalul „Funding & Tenders” al Uniunii Europene\, sesiune dedicată noilor utilizatori ai platformei. Webinarul va aborda programul Orizont Europa prin subiecte precum: căutarea oportunităților de finanțare și a partenerilor\, înregistrarea organizațiilor\, depunerea propunerilor\, gestionarea profilului\, explorarea proiectelor finanțate. Participarea nu necesită preînregistrare. Link-ul LiveStream\, ordinea de zi și informații suplimentare sunt disponibile aici.
URL:http://supporttm.projects.uvt.ro/event/the-funding-tenders-portal-for-beginners/
CATEGORIES:Noutati
END:VEVENT
END:VCALENDAR