BEGIN:VCALENDAR
VERSION:2.0
PRODID:-//supporttm.projects.uvt.ro - ECPv5.5.0.1//NONSGML v1.0//EN
CALSCALE:GREGORIAN
METHOD:PUBLISH
X-WR-CALNAME:supporttm.projects.uvt.ro
X-ORIGINAL-URL:http://supporttm.projects.uvt.ro
X-WR-CALDESC:Events for supporttm.projects.uvt.ro
BEGIN:VTIMEZONE
TZID:UTC
BEGIN:STANDARD
TZOFFSETFROM:+0000
TZOFFSETTO:+0000
TZNAME:UTC
DTSTART:20210101T000000
END:STANDARD
END:VTIMEZONE
BEGIN:VEVENT
DTSTART;VALUE=DATE:20210316
DTEND;VALUE=DATE:20210326
DTSTAMP:20260419T160329
CREATED:20210127T155810Z
LAST-MODIFIED:20210128T105204Z
UID:2472-1615852800-1616716799@supporttm.projects.uvt.ro
SUMMARY:The online European funding academy
DESCRIPTION:Evenimentul este compus dintr-o suită de webinarii care acoperă întregul ciclul de viață al unui proiect european de cercetare și inovare\, de la etapa de concepere a acestuia și până la auditul final\, trecând prin etape ca cea de scriere\, management\, implementare și raportare. Fiecare temă va fi abordată într-un webinar separat\, după cum urmează: \nHorizon Europe proposal writing (16-17 martie) \nHorizon Europe project management (18-19 martie) \nHorizon Europe financial rules (22-23 martie) \nHorizon europe: innovation in proposals\, projects and organisations  (25 martie) \n  \nOrganizator: Europe Media Training \nMai multe detalii despre eveniment se regăsesc aici. \nÎnregistrarea în vederea participării se face aici (până la data de 15 martie). \nTaxă de participare: 949 euro
URL:http://supporttm.projects.uvt.ro/event/the-online-european-funding-academy/
CATEGORIES:Noutati,SPECIAL FOCUS SERIES
ATTACH;FMTTYPE=image/jpeg:http://supporttm.projects.uvt.ro/wp-content/uploads/2021/01/7-The-online-European-funding-academy-scaled.jpg
END:VEVENT
END:VCALENDAR