BEGIN:VCALENDAR
VERSION:2.0
PRODID:-//supporttm.projects.uvt.ro - ECPv5.5.0.1//NONSGML v1.0//EN
CALSCALE:GREGORIAN
METHOD:PUBLISH
X-WR-CALNAME:supporttm.projects.uvt.ro
X-ORIGINAL-URL:http://supporttm.projects.uvt.ro
X-WR-CALDESC:Events for supporttm.projects.uvt.ro
BEGIN:VTIMEZONE
TZID:Europe/Paris
BEGIN:DAYLIGHT
TZOFFSETFROM:+0100
TZOFFSETTO:+0200
TZNAME:CEST
DTSTART:20210328T010000
END:DAYLIGHT
BEGIN:STANDARD
TZOFFSETFROM:+0200
TZOFFSETTO:+0100
TZNAME:CET
DTSTART:20211031T010000
END:STANDARD
END:VTIMEZONE
BEGIN:VEVENT
DTSTART;TZID=Europe/Paris:20210507T150000
DTEND;TZID=Europe/Paris:20210507T170000
DTSTAMP:20260419T130940
CREATED:20210506T130730Z
LAST-MODIFIED:20210506T133036Z
UID:2937-1620399600-1620406800@supporttm.projects.uvt.ro
SUMMARY:Webinar for Patients – Safe and performant Medical Devices for all
DESCRIPTION:Acest webinar va face referire la modul în care noul regulament privind dispozitivele medicale (MDR) își propune să asigure dispozitive medicale sigure și performante pentru toți. Evenimentul este dedicat tuturor celor interesați de a afla mai multe despre dispozitivele medicale și despre modul în care pot participa la această schimbare. \nEvenimentul este organizat de Direcția Generală Sănătate și Siguranță Alimentară (DG SANTE) a Comisiei Europene în contextul campaniei de comunicare pentru noua legislație privind dispozitivele medicale\, o inițiativă susținută de al treilea program de sănătate din perioada 2014 – 2020. \nAcesta va reuni reprezentanți ai Comisiei Europene\, pacienți\, profesioniști din domeniul sănătății și alți interesați să afle mai multe despre noua legislație. Webinarul este gratuit pe baza înregistrării. Mai multe detalii despre eveniment și înregistrare se găsesc aici .
URL:http://supporttm.projects.uvt.ro/event/webinar-for-patients-safe-and-performant-medical-devices-for-all/
CATEGORIES:Noutati
END:VEVENT
END:VCALENDAR